BEGIN:VCALENDAR
VERSION:2.0
PRODID:-//www.dsamidlands.org//NONSGML kigkonsult.se iCalcreator 2.30.10//
CALSCALE:GREGORIAN
METHOD:PUBLISH
UID:1a6a99c7-6e9e-4838-bea7-2136fc8a29b3
X-WR-CALDESC:Join us for an egg-citing time at our DSA Easter Egg Hunt!\nAl
 l DSA families are invited\, and siblings are welcome to join in the fun!
 \n\nEvent Details:\nSunday\, March 29th\n11:00 AM until eggs are gone\nPap
 illion Landing Field House\n1022 W Lincoln St\, Papillion\, NE 68046\n\nTh
 e egg hunt will begin promptly at 11:00 AM and will last until all the egg
 s are gone\, so be sure to arrive on time!
X-WR-RELCALID:8ff7015266aeb3d60dfc14b35d4883a6
X-WR-TIMEZONE:America/Chicago
BEGIN:VTIMEZONE
TZID:America/Chicago
BEGIN:STANDARD
TZNAME:CST
DTSTART:20251102T020000
TZOFFSETFROM:-0500
TZOFFSETTO:-0600
RDATE:20261101T020000
END:STANDARD
BEGIN:DAYLIGHT
TZNAME:CDT
DTSTART:20260308T020000
TZOFFSETFROM:-0600
TZOFFSETTO:-0500
RDATE:20270314T020000
END:DAYLIGHT
END:VTIMEZONE
BEGIN:VEVENT
UID:e79838d6-65fe-4d3d-ad4a-5900020fcf51
DTSTAMP:20260421T231315Z
DESCRIPTION:Join us for an egg-citing time at our DSA Easter Egg Hunt!\nAll
  DSA families are invited\, and siblings are welcome to join in the fun!\n
 \nEvent Details:\nSunday\, March 29th\n11:00 AM until eggs are gone\nPapil
 lion Landing Field House\n1022 W Lincoln St\, Papillion\, NE 68046\n\nThe 
 egg hunt will begin promptly at 11:00 AM and will last until all the eggs 
 are gone\, so be sure to arrive on time!
DTSTART;TZID=America/Chicago:20260329T110000
DTEND;TZID=America/Chicago:20260329T120000
LOCATION:https://secure.lglforms.com/form_engine/s/2xuriv2jaPC4qKnOH-tK5g
SUMMARY:Easter Egg Hunt
END:VEVENT
END:VCALENDAR
