BEGIN:VCALENDAR
VERSION:2.0
PRODID:-//www.dsamidlands.org//NONSGML kigkonsult.se iCalcreator 2.30.10//
CALSCALE:GREGORIAN
METHOD:PUBLISH
UID:644c6ea5-62da-4c99-84d7-d08677a8d57e
X-WR-CALDESC:Come join us at Prehistoric Putt on March 25th from 5:30–7 PM 
 for an evening of putt-putt and pizza!\nIt’s the perfect chance to hang ou
 t with friends and have a little fun!
X-WR-RELCALID:e386a48aa2bbdcde111472934c22a7ab
X-WR-TIMEZONE:America/Chicago
BEGIN:VTIMEZONE
TZID:America/Chicago
BEGIN:STANDARD
TZNAME:CST
DTSTART:20251102T020000
TZOFFSETFROM:-0500
TZOFFSETTO:-0600
RDATE:20261101T020000
END:STANDARD
BEGIN:DAYLIGHT
TZNAME:CDT
DTSTART:20260308T020000
TZOFFSETFROM:-0600
TZOFFSETTO:-0500
RDATE:20270314T020000
END:DAYLIGHT
END:VTIMEZONE
BEGIN:VEVENT
UID:3246390b-690f-46be-92f3-457073f13d46
DTSTAMP:20260421T171855Z
DESCRIPTION:Come join us at Prehistoric Putt on March 25th from 5:30–7 PM f
 or an evening of putt-putt and pizza!\nIt’s the perfect chance to hang out
  with friends and have a little fun!
DTSTART;TZID=America/Chicago:20260325T173000
DTEND;TZID=America/Chicago:20260325T190000
LOCATION:This event has been canceled due to low attendance
SUMMARY:Teens Connect Prehistoric Putt - Canceled
END:VEVENT
END:VCALENDAR
