BEGIN:VCALENDAR
VERSION:2.0
PRODID:-//www.dsamidlands.org//NONSGML kigkonsult.se iCalcreator 2.30.10//
CALSCALE:GREGORIAN
METHOD:PUBLISH
UID:0ad8a81d-9b30-4e37-a378-313c329a61cb
X-WR-CALDESC:This session has been canceled
X-WR-RELCALID:bf26eea1fd048d987b72699c179ed23a
X-WR-TIMEZONE:America/Chicago
BEGIN:VTIMEZONE
TZID:America/Chicago
BEGIN:STANDARD
TZNAME:CST
DTSTART:20251102T020000
TZOFFSETFROM:-0500
TZOFFSETTO:-0600
RDATE:20261101T020000
END:STANDARD
BEGIN:DAYLIGHT
TZNAME:CDT
DTSTART:20260308T020000
TZOFFSETFROM:-0600
TZOFFSETTO:-0500
RDATE:20270314T020000
END:DAYLIGHT
END:VTIMEZONE
BEGIN:VEVENT
UID:c571c391-b17e-4bc8-9120-1b85ff5d80c4
DTSTAMP:20260421T171902Z
DESCRIPTION:This session has been canceled
DTSTART;TZID=America/Chicago:20260325T093000
DTEND;TZID=America/Chicago:20260325T101500
LOCATION:https://secure.lglforms.com/form_engine/s/Intz9hybOug0O_sluiqdAw
SUMMARY:Little Ones Play Group Kindermusik!
END:VEVENT
END:VCALENDAR
