BEGIN:VCALENDAR
VERSION:2.0
PRODID:-//www.dsamidlands.org//NONSGML kigkonsult.se iCalcreator 2.30.10//
CALSCALE:GREGORIAN
METHOD:PUBLISH
UID:13763a6a-8e23-4a38-ae98-46b7089a8955
X-WR-CALDESC:
X-WR-RELCALID:b0d6d884fd3112eb190c599d26926afe
X-WR-TIMEZONE:America/Chicago
BEGIN:VTIMEZONE
TZID:America/Chicago
BEGIN:STANDARD
TZNAME:CST
DTSTART:20251102T020000
TZOFFSETFROM:-0500
TZOFFSETTO:-0600
RDATE:20261101T020000
END:STANDARD
BEGIN:DAYLIGHT
TZNAME:CDT
DTSTART:20260308T020000
TZOFFSETFROM:-0600
TZOFFSETTO:-0500
RDATE:20270314T020000
END:DAYLIGHT
END:VTIMEZONE
BEGIN:VEVENT
UID:89f0f5f9-b59d-475b-96e4-8add07ac2bfc
DTSTAMP:20260422T043459Z
DESCRIPTION:
DTSTART;TZID=America/Chicago:20260401T173000
DTEND;TZID=America/Chicago:20260401T190000
LOCATION:https://secure.lglforms.com/form_engine/s/4n42Bmag76cFqu7cbU7Z1w
SUMMARY:Kids Connect PreK-2nd Grade
END:VEVENT
END:VCALENDAR
