BEGIN:VCALENDAR
VERSION:2.0
PRODID:-//www.dsamidlands.org//NONSGML kigkonsult.se iCalcreator 2.30.10//
CALSCALE:GREGORIAN
METHOD:PUBLISH
UID:2870516c-8b36-4bd8-9de5-e190836b97d5
X-WR-CALDESC:DSA’s World Down Syndrome Day celebration promotes awareness\,
  fosters inclusion\, and empowers individuals with Down syndrome and their
  families. This free event\, held on March 21st (or 3/21) to symbolize the
  three copies of the 21st chromosome\, provides an affirming space where i
 ndividuals with Down syndrome in the Greater Omaha Area are celebrated for
  their abilities and contributions!\n\nWhen: Saturday March 21st | 11:00 A
 M – 1:30 PM\n\nLocation: Omaha Sports and Games - Enjoy food\, drinks and 
 great company! There will be fun activities and a photobooth to remember t
 he day!\n\nAddress: 725 N Skyline Dr Suite 1\, Elkhorn\, NE 68022
X-WR-RELCALID:ec162ba51af6604d1866fc95f0900c8f
X-WR-TIMEZONE:America/Chicago
BEGIN:VTIMEZONE
TZID:America/Chicago
BEGIN:STANDARD
TZNAME:CST
DTSTART:20251102T020000
TZOFFSETFROM:-0500
TZOFFSETTO:-0600
RDATE:20261101T020000
END:STANDARD
BEGIN:DAYLIGHT
TZNAME:CDT
DTSTART:20260308T020000
TZOFFSETFROM:-0600
TZOFFSETTO:-0500
RDATE:20270314T020000
END:DAYLIGHT
END:VTIMEZONE
BEGIN:VEVENT
UID:69c9ee65-804d-46de-8f32-deb908cfc90f
DTSTAMP:20260421T125842Z
DESCRIPTION:DSA’s World Down Syndrome Day celebration promotes awareness\, 
 fosters inclusion\, and empowers individuals with Down syndrome and their 
 families. This free event\, held on March 21st (or 3/21) to symbolize the 
 three copies of the 21st chromosome\, provides an affirming space where in
 dividuals with Down syndrome in the Greater Omaha Area are celebrated for 
 their abilities and contributions!\n\nWhen: Saturday March 21st | 11:00 AM
  – 1:30 PM\n\nLocation: Omaha Sports and Games - Enjoy food\, drinks and g
 reat company! There will be fun activities and a photobooth to remember th
 e day!\n\nAddress: 725 N Skyline Dr Suite 1\, Elkhorn\, NE 68022
DTSTART;TZID=America/Chicago:20260321T110000
DTEND;TZID=America/Chicago:20260321T133000
LOCATION:https://secure.lglforms.com/form_engine/s/uIxi8uDdV2bqrdBtwT_ExA
SUMMARY:World Down Syndrome Day Party
END:VEVENT
END:VCALENDAR
