BEGIN:VCALENDAR
VERSION:2.0
PRODID:-//www.dsamidlands.org//NONSGML kigkonsult.se iCalcreator 2.30.10//
CALSCALE:GREGORIAN
METHOD:PUBLISH
UID:7ce60c69-5c1d-4ce0-9a82-78dc11571f78
X-WR-CALDESC:Kids Connect for 3rd - 5th  graders is a fun opportunity for o
 ur elementary aged members to build friendships\, stay active\, and enjoy 
 dinner together.
X-WR-RELCALID:fc70b76eb544189f6a320f11ef41f9b1
X-WR-TIMEZONE:America/Chicago
BEGIN:VTIMEZONE
TZID:America/Chicago
BEGIN:STANDARD
TZNAME:CST
DTSTART:20251102T020000
TZOFFSETFROM:-0500
TZOFFSETTO:-0600
RDATE:20261101T020000
END:STANDARD
BEGIN:DAYLIGHT
TZNAME:CDT
DTSTART:20260308T020000
TZOFFSETFROM:-0600
TZOFFSETTO:-0500
RDATE:20270314T020000
END:DAYLIGHT
END:VTIMEZONE
BEGIN:VEVENT
UID:745a427b-cb35-4148-bc52-245b4a3ba74f
DTSTAMP:20260421T113927Z
DESCRIPTION:Kids Connect for 3rd - 5th  graders is a fun opportunity for ou
 r elementary aged members to build friendships\, stay active\, and enjoy d
 inner together.
DTSTART;TZID=America/Chicago:20260311T173000
DTEND;TZID=America/Chicago:20260311T190000
LOCATION:https://secure.lglforms.com/form_engine/s/f5W604JHfQz-Cgs7p1hOCA
SUMMARY:Kids Connect 3rd - 5th Grade - Canceled
END:VEVENT
END:VCALENDAR
