BEGIN:VCALENDAR
VERSION:2.0
PRODID:-//www.dsamidlands.org//NONSGML kigkonsult.se iCalcreator 2.30.10//
CALSCALE:GREGORIAN
METHOD:PUBLISH
UID:9e37a75c-5283-49a3-8fa9-5df2f1e3a1bd
X-WR-CALDESC:Breakfast Club for 6th-12th graders.  Students will get to enj
 oy breakfast with friends\, learn practical skills like ordering and payin
 g for their meal\, and have a blast with some games.\n
X-WR-RELCALID:e69f332019b8cd501abf0f288775ebdf
X-WR-TIMEZONE:America/Chicago
BEGIN:VTIMEZONE
TZID:America/Chicago
BEGIN:STANDARD
TZNAME:CST
DTSTART:20251102T020000
TZOFFSETFROM:-0500
TZOFFSETTO:-0600
RDATE:20261101T020000
END:STANDARD
BEGIN:DAYLIGHT
TZNAME:CDT
DTSTART:20250309T020000
TZOFFSETFROM:-0600
TZOFFSETTO:-0500
RDATE:20260308T020000
RDATE:20270314T020000
END:DAYLIGHT
END:VTIMEZONE
BEGIN:VEVENT
UID:d513b588-2ce1-477c-8827-8681d7c69d20
DTSTAMP:20260421T142544Z
DESCRIPTION:Breakfast Club for 6th-12th graders.  Students will get to enjo
 y breakfast with friends\, learn practical skills like ordering and paying
  for their meal\, and have a blast with some games.\n
DTSTART;TZID=America/Chicago:20260307T090000
DTEND;TZID=America/Chicago:20260307T100000
LOCATION:https://secure.lglforms.com/form_engine/s/zUlKtGzkqt_j3rTI3zYJLQ
SUMMARY:Breakfast Club - Canceled
END:VEVENT
END:VCALENDAR
