BEGIN:VCALENDAR
VERSION:2.0
PRODID:-//www.dsamidlands.org//NONSGML kigkonsult.se iCalcreator 2.30.10//
CALSCALE:GREGORIAN
METHOD:PUBLISH
UID:90faacb9-f50c-4edd-8887-3a47116f580f
X-WR-CALDESC:114th and Dodge
X-WR-RELCALID:e3fea469138aefe5c441d1126921a34b
X-WR-TIMEZONE:America/Chicago
BEGIN:VTIMEZONE
TZID:America/Chicago
BEGIN:STANDARD
TZNAME:CST
DTSTART:20291104T020000
TZOFFSETFROM:-0500
TZOFFSETTO:-0600
RDATE:20301103T020000
END:STANDARD
BEGIN:DAYLIGHT
TZNAME:CDT
DTSTART:20290311T020000
TZOFFSETFROM:-0600
TZOFFSETTO:-0500
RDATE:20300310T020000
RDATE:20310309T020000
END:DAYLIGHT
END:VTIMEZONE
BEGIN:VEVENT
UID:c46cdac0-e0ac-44a9-a5b4-1257b9195c2f
DTSTAMP:20260426T012905Z
DESCRIPTION:114th and Dodge
DTSTART;TZID=America/Chicago:20291227T183000
DTEND;TZID=America/Chicago:20291227T200000
LOCATION:DJ's Dugout
SUMMARY:D.A.D.S. Omaha Meeting
END:VEVENT
END:VCALENDAR
