BEGIN:VCALENDAR
VERSION:2.0
PRODID:-//www.dsamidlands.org//NONSGML kigkonsult.se iCalcreator 2.30.10//
CALSCALE:GREGORIAN
METHOD:PUBLISH
UID:d83c7b87-9a42-4bb3-9cdb-5113317241e9
X-WR-CALDESC:114th and Dodge
X-WR-RELCALID:0fa0810e67fd974605cebe7fe00b17bc
X-WR-TIMEZONE:America/Chicago
BEGIN:VTIMEZONE
TZID:America/Chicago
BEGIN:STANDARD
TZNAME:CST
DTSTART:20281105T020000
TZOFFSETFROM:-0500
TZOFFSETTO:-0600
RDATE:20291104T020000
RDATE:20301103T020000
END:STANDARD
BEGIN:DAYLIGHT
TZNAME:CDT
DTSTART:20290311T020000
TZOFFSETFROM:-0600
TZOFFSETTO:-0500
RDATE:20300310T020000
END:DAYLIGHT
END:VTIMEZONE
BEGIN:VEVENT
UID:df3b6f9e-1c3a-4147-b480-3bf29e353f35
DTSTAMP:20260425T184250Z
DESCRIPTION:114th and Dodge
DTSTART;TZID=America/Chicago:20290830T183000
DTEND;TZID=America/Chicago:20290830T200000
LOCATION:DJ's Dugout
SUMMARY:D.A.D.S. Omaha Meeting
END:VEVENT
END:VCALENDAR
