BEGIN:VCALENDAR
VERSION:2.0
PRODID:-//www.dsamidlands.org//NONSGML kigkonsult.se iCalcreator 2.30.10//
CALSCALE:GREGORIAN
METHOD:PUBLISH
UID:46cf0d84-45ba-4a39-a4ce-cf4558412682
X-WR-CALDESC:114th and Dodge
X-WR-RELCALID:aa956f6e71400d08c2ae810ad401e3b7
X-WR-TIMEZONE:America/Chicago
BEGIN:VTIMEZONE
TZID:America/Chicago
BEGIN:STANDARD
TZNAME:CST
DTSTART:20281105T020000
TZOFFSETFROM:-0500
TZOFFSETTO:-0600
RDATE:20291104T020000
RDATE:20301103T020000
END:STANDARD
BEGIN:DAYLIGHT
TZNAME:CDT
DTSTART:20290311T020000
TZOFFSETFROM:-0600
TZOFFSETTO:-0500
RDATE:20300310T020000
END:DAYLIGHT
END:VTIMEZONE
BEGIN:VEVENT
UID:be45ab44-797d-4d5d-aaa4-8f3d67e2b33a
DTSTAMP:20260425T171456Z
DESCRIPTION:114th and Dodge
DTSTART;TZID=America/Chicago:20290726T183000
DTEND;TZID=America/Chicago:20290726T200000
LOCATION:DJ's Dugout
SUMMARY:D.A.D.S. Omaha Meeting
END:VEVENT
END:VCALENDAR
