BEGIN:VCALENDAR
VERSION:2.0
PRODID:-//www.dsamidlands.org//NONSGML kigkonsult.se iCalcreator 2.30.10//
CALSCALE:GREGORIAN
METHOD:PUBLISH
UID:645c1a07-c904-45e3-9a4e-e7e8794fce09
X-WR-CALDESC:114th and Dodge
X-WR-RELCALID:158f5d40f8cf650eb55eb66407954888
X-WR-TIMEZONE:America/Chicago
BEGIN:VTIMEZONE
TZID:America/Chicago
BEGIN:STANDARD
TZNAME:CST
DTSTART:20281105T020000
TZOFFSETFROM:-0500
TZOFFSETTO:-0600
RDATE:20291104T020000
RDATE:20301103T020000
END:STANDARD
BEGIN:DAYLIGHT
TZNAME:CDT
DTSTART:20290311T020000
TZOFFSETFROM:-0600
TZOFFSETTO:-0500
RDATE:20300310T020000
END:DAYLIGHT
END:VTIMEZONE
BEGIN:VEVENT
UID:6afe1c5e-60af-4e65-bbf2-70f8194d47bd
DTSTAMP:20260425T152306Z
DESCRIPTION:114th and Dodge
DTSTART;TZID=America/Chicago:20290628T183000
DTEND;TZID=America/Chicago:20290628T200000
LOCATION:DJ's Dugout
SUMMARY:D.A.D.S. Omaha Meeting
END:VEVENT
END:VCALENDAR
