BEGIN:VCALENDAR
VERSION:2.0
PRODID:-//www.dsamidlands.org//NONSGML kigkonsult.se iCalcreator 2.30.10//
CALSCALE:GREGORIAN
METHOD:PUBLISH
UID:a0e717e1-0776-4cc0-afdc-c20be4fd8607
X-WR-CALDESC:114th and Dodge
X-WR-RELCALID:047621c3a367ee60927dbf4e037b9928
X-WR-TIMEZONE:America/Chicago
BEGIN:VTIMEZONE
TZID:America/Chicago
BEGIN:STANDARD
TZNAME:CST
DTSTART:20281105T020000
TZOFFSETFROM:-0500
TZOFFSETTO:-0600
RDATE:20291104T020000
RDATE:20301103T020000
END:STANDARD
BEGIN:DAYLIGHT
TZNAME:CDT
DTSTART:20290311T020000
TZOFFSETFROM:-0600
TZOFFSETTO:-0500
RDATE:20300310T020000
END:DAYLIGHT
END:VTIMEZONE
BEGIN:VEVENT
UID:10b446b2-e914-4ba4-a86c-2f6b79dd9287
DTSTAMP:20260425T133642Z
DESCRIPTION:114th and Dodge
DTSTART;TZID=America/Chicago:20290531T183000
DTEND;TZID=America/Chicago:20290531T200000
LOCATION:DJ's Dugout
SUMMARY:D.A.D.S. Omaha Meeting
END:VEVENT
END:VCALENDAR
