BEGIN:VCALENDAR
VERSION:2.0
PRODID:-//www.dsamidlands.org//NONSGML kigkonsult.se iCalcreator 2.30.10//
CALSCALE:GREGORIAN
METHOD:PUBLISH
UID:5fcd99ea-ad9f-49ff-8525-e258348297cc
X-WR-CALDESC:114th and Dodge
X-WR-RELCALID:9b56b60cb3ccb504474169e55c0404e4
X-WR-TIMEZONE:America/Chicago
BEGIN:VTIMEZONE
TZID:America/Chicago
BEGIN:STANDARD
TZNAME:CST
DTSTART:20271107T020000
TZOFFSETFROM:-0500
TZOFFSETTO:-0600
RDATE:20281105T020000
RDATE:20291104T020000
END:STANDARD
BEGIN:DAYLIGHT
TZNAME:CDT
DTSTART:20280312T020000
TZOFFSETFROM:-0600
TZOFFSETTO:-0500
RDATE:20290311T020000
END:DAYLIGHT
END:VTIMEZONE
BEGIN:VEVENT
UID:5fd9d8e0-31f0-4c08-8cb2-dd1b1a80a853
DTSTAMP:20260422T214435Z
DESCRIPTION:114th and Dodge
DTSTART;TZID=America/Chicago:20280727T183000
DTEND;TZID=America/Chicago:20280727T200000
LOCATION:DJ's Dugout
SUMMARY:D.A.D.S. Omaha Meeting
END:VEVENT
END:VCALENDAR
