BEGIN:VCALENDAR
VERSION:2.0
PRODID:-//www.dsamidlands.org//NONSGML kigkonsult.se iCalcreator 2.30.10//
CALSCALE:GREGORIAN
METHOD:PUBLISH
UID:b018d75e-c42d-495d-9ca5-275a5db4b75a
X-WR-CALDESC:114th and Dodge
X-WR-RELCALID:6b1ca161caf2ff394af5cdd3dacb268e
X-WR-TIMEZONE:America/Chicago
BEGIN:VTIMEZONE
TZID:America/Chicago
BEGIN:STANDARD
TZNAME:CST
DTSTART:20271107T020000
TZOFFSETFROM:-0500
TZOFFSETTO:-0600
RDATE:20281105T020000
RDATE:20291104T020000
END:STANDARD
BEGIN:DAYLIGHT
TZNAME:CDT
DTSTART:20280312T020000
TZOFFSETFROM:-0600
TZOFFSETTO:-0500
RDATE:20290311T020000
END:DAYLIGHT
END:VTIMEZONE
BEGIN:VEVENT
UID:ba86325e-10bd-4b48-a013-b558bd3f5db4
DTSTAMP:20260422T203939Z
DESCRIPTION:114th and Dodge
DTSTART;TZID=America/Chicago:20280629T183000
DTEND;TZID=America/Chicago:20280629T200000
LOCATION:DJ's Dugout
SUMMARY:D.A.D.S. Omaha Meeting
END:VEVENT
END:VCALENDAR
