BEGIN:VCALENDAR
VERSION:2.0
PRODID:-//www.dsamidlands.org//NONSGML kigkonsult.se iCalcreator 2.30.10//
CALSCALE:GREGORIAN
METHOD:PUBLISH
UID:a2136438-95f5-4f3d-8a6e-1c6c1788ba2a
X-WR-CALDESC:114th and Dodge
X-WR-RELCALID:f686eeaa41072fe693797140f4b1cae1
X-WR-TIMEZONE:America/Chicago
BEGIN:VTIMEZONE
TZID:America/Chicago
BEGIN:STANDARD
TZNAME:CST
DTSTART:20271107T020000
TZOFFSETFROM:-0500
TZOFFSETTO:-0600
RDATE:20281105T020000
END:STANDARD
BEGIN:DAYLIGHT
TZNAME:CDT
DTSTART:20280312T020000
TZOFFSETFROM:-0600
TZOFFSETTO:-0500
RDATE:20290311T020000
END:DAYLIGHT
END:VTIMEZONE
BEGIN:VEVENT
UID:e75fe2c4-6189-4b92-9894-3e30d38902ba
DTSTAMP:20260422T172213Z
DESCRIPTION:114th and Dodge
DTSTART;TZID=America/Chicago:20280427T183000
DTEND;TZID=America/Chicago:20280427T200000
LOCATION:DJ's Dugout
SUMMARY:D.A.D.S. Omaha Meeting
END:VEVENT
END:VCALENDAR
