BEGIN:VCALENDAR
VERSION:2.0
PRODID:-//www.dsamidlands.org//NONSGML kigkonsult.se iCalcreator 2.30.10//
CALSCALE:GREGORIAN
METHOD:PUBLISH
UID:2d421bff-80dd-44f7-a321-34d1510b707b
X-WR-CALDESC:114th and Dodge
X-WR-RELCALID:a1a83b0a3fbf6455f38b498a91e140a6
X-WR-TIMEZONE:America/Chicago
BEGIN:VTIMEZONE
TZID:America/Chicago
BEGIN:STANDARD
TZNAME:CST
DTSTART:20271107T020000
TZOFFSETFROM:-0500
TZOFFSETTO:-0600
RDATE:20281105T020000
END:STANDARD
BEGIN:DAYLIGHT
TZNAME:CDT
DTSTART:20280312T020000
TZOFFSETFROM:-0600
TZOFFSETTO:-0500
RDATE:20290311T020000
END:DAYLIGHT
END:VTIMEZONE
BEGIN:VEVENT
UID:951eeeae-dcc0-484e-9886-b856d47f2c02
DTSTAMP:20260422T154956Z
DESCRIPTION:114th and Dodge
DTSTART;TZID=America/Chicago:20280330T183000
DTEND;TZID=America/Chicago:20280330T200000
LOCATION:DJ's Dugout
SUMMARY:D.A.D.S. Omaha Meeting
END:VEVENT
END:VCALENDAR
