BEGIN:VCALENDAR
VERSION:2.0
PRODID:-//www.dsamidlands.org//NONSGML kigkonsult.se iCalcreator 2.30.10//
CALSCALE:GREGORIAN
METHOD:PUBLISH
UID:bd6b48ec-1338-4ecd-ae30-d5f34af0bc27
X-WR-CALDESC:114th and Dodge
X-WR-RELCALID:ea94beb5aa326cde2a3656d3c788a474
X-WR-TIMEZONE:America/Chicago
BEGIN:VTIMEZONE
TZID:America/Chicago
BEGIN:STANDARD
TZNAME:CST
DTSTART:20271107T020000
TZOFFSETFROM:-0500
TZOFFSETTO:-0600
RDATE:20281105T020000
END:STANDARD
BEGIN:DAYLIGHT
TZNAME:CDT
DTSTART:20270314T020000
TZOFFSETFROM:-0600
TZOFFSETTO:-0500
RDATE:20280312T020000
RDATE:20290311T020000
END:DAYLIGHT
END:VTIMEZONE
BEGIN:VEVENT
UID:9f118760-5fec-4e1a-b2e8-eeabb2b1071c
DTSTAMP:20260424T101234Z
DESCRIPTION:114th and Dodge
DTSTART;TZID=America/Chicago:20271125T183000
DTEND;TZID=America/Chicago:20271125T200000
LOCATION:DJ's Dugout
SUMMARY:D.A.D.S. Omaha Meeting
END:VEVENT
END:VCALENDAR
