BEGIN:VCALENDAR
VERSION:2.0
PRODID:-//www.dsamidlands.org//NONSGML kigkonsult.se iCalcreator 2.30.10//
CALSCALE:GREGORIAN
METHOD:PUBLISH
UID:4129241e-f483-4c44-b564-e2f418abaae2
X-WR-CALDESC:114th and Dodge
X-WR-RELCALID:da92eecd19bf858adb8fa048c23f6dc5
X-WR-TIMEZONE:America/Chicago
BEGIN:VTIMEZONE
TZID:America/Chicago
BEGIN:STANDARD
TZNAME:CST
DTSTART:20261101T020000
TZOFFSETFROM:-0500
TZOFFSETTO:-0600
RDATE:20271107T020000
RDATE:20281105T020000
END:STANDARD
BEGIN:DAYLIGHT
TZNAME:CDT
DTSTART:20270314T020000
TZOFFSETFROM:-0600
TZOFFSETTO:-0500
RDATE:20280312T020000
RDATE:20290311T020000
END:DAYLIGHT
END:VTIMEZONE
BEGIN:VEVENT
UID:18e6992a-427d-46a2-9f35-8e4313302540
DTSTAMP:20260422T072229Z
DESCRIPTION:114th and Dodge
DTSTART;TZID=America/Chicago:20270930T183000
DTEND;TZID=America/Chicago:20270930T200000
LOCATION:DJ's Dugout
SUMMARY:D.A.D.S. Omaha Meeting
END:VEVENT
END:VCALENDAR
