BEGIN:VCALENDAR
VERSION:2.0
PRODID:-//www.dsamidlands.org//NONSGML kigkonsult.se iCalcreator 2.30.10//
CALSCALE:GREGORIAN
METHOD:PUBLISH
UID:7747e7a9-dfa2-4a7f-b06d-ef6a77854dbb
X-WR-CALDESC:114th and Dodge
X-WR-RELCALID:cf304810dafa6f41781000bdde89075f
X-WR-TIMEZONE:America/Chicago
BEGIN:VTIMEZONE
TZID:America/Chicago
BEGIN:STANDARD
TZNAME:CST
DTSTART:20261101T020000
TZOFFSETFROM:-0500
TZOFFSETTO:-0600
RDATE:20271107T020000
RDATE:20281105T020000
END:STANDARD
BEGIN:DAYLIGHT
TZNAME:CDT
DTSTART:20270314T020000
TZOFFSETFROM:-0600
TZOFFSETTO:-0500
RDATE:20280312T020000
END:DAYLIGHT
END:VTIMEZONE
BEGIN:VEVENT
UID:748eab93-178a-438c-ad92-d0907a1e4e7b
DTSTAMP:20260422T044432Z
DESCRIPTION:114th and Dodge
DTSTART;TZID=America/Chicago:20270729T183000
DTEND;TZID=America/Chicago:20270729T200000
LOCATION:DJ's Dugout
SUMMARY:D.A.D.S. Omaha Meeting
END:VEVENT
END:VCALENDAR
