BEGIN:VCALENDAR
VERSION:2.0
PRODID:-//www.dsamidlands.org//NONSGML kigkonsult.se iCalcreator 2.30.10//
CALSCALE:GREGORIAN
METHOD:PUBLISH
UID:7f4377fd-e5c9-4838-8ce4-37ef31fadabf
X-WR-CALDESC:114th and Dodge
X-WR-RELCALID:1ccba0175cf82c2f01cedbfef9f62a8e
X-WR-TIMEZONE:America/Chicago
BEGIN:VTIMEZONE
TZID:America/Chicago
BEGIN:STANDARD
TZNAME:CST
DTSTART:20261101T020000
TZOFFSETFROM:-0500
TZOFFSETTO:-0600
RDATE:20271107T020000
RDATE:20281105T020000
END:STANDARD
BEGIN:DAYLIGHT
TZNAME:CDT
DTSTART:20270314T020000
TZOFFSETFROM:-0600
TZOFFSETTO:-0500
RDATE:20280312T020000
END:DAYLIGHT
END:VTIMEZONE
BEGIN:VEVENT
UID:5dd80f02-77c4-4445-9a42-3941ccedf5a4
DTSTAMP:20260422T021141Z
DESCRIPTION:114th and Dodge
DTSTART;TZID=America/Chicago:20270527T183000
DTEND;TZID=America/Chicago:20270527T200000
LOCATION:DJ's Dugout
SUMMARY:D.A.D.S. Omaha Meeting
END:VEVENT
END:VCALENDAR
