BEGIN:VCALENDAR
VERSION:2.0
PRODID:-//www.dsamidlands.org//NONSGML kigkonsult.se iCalcreator 2.30.10//
CALSCALE:GREGORIAN
METHOD:PUBLISH
UID:5cb1f7f8-bda2-46bc-86b0-e50da7ff0242
X-WR-CALDESC:114th and Dodge
X-WR-RELCALID:f1efbf93a736fa9500d497d09c6745a1
X-WR-TIMEZONE:America/Chicago
BEGIN:VTIMEZONE
TZID:America/Chicago
BEGIN:STANDARD
TZNAME:CST
DTSTART:20261101T020000
TZOFFSETFROM:-0500
TZOFFSETTO:-0600
RDATE:20271107T020000
END:STANDARD
BEGIN:DAYLIGHT
TZNAME:CDT
DTSTART:20270314T020000
TZOFFSETFROM:-0600
TZOFFSETTO:-0500
RDATE:20280312T020000
END:DAYLIGHT
END:VTIMEZONE
BEGIN:VEVENT
UID:d75ac1fd-20f0-4dc6-a30d-04fee23db9e9
DTSTAMP:20260422T003920Z
DESCRIPTION:114th and Dodge
DTSTART;TZID=America/Chicago:20270429T183000
DTEND;TZID=America/Chicago:20270429T200000
LOCATION:DJ's Dugout
SUMMARY:D.A.D.S. Omaha Meeting
END:VEVENT
END:VCALENDAR
