BEGIN:VCALENDAR
VERSION:2.0
PRODID:-//www.dsamidlands.org//NONSGML kigkonsult.se iCalcreator 2.30.10//
CALSCALE:GREGORIAN
METHOD:PUBLISH
UID:63d5854c-559d-44a8-95f6-4053702ea924
X-WR-CALDESC:114th and Dodge
X-WR-RELCALID:a4aa945e2c77d36ebcafcdfa22b7c341
X-WR-TIMEZONE:America/Chicago
BEGIN:VTIMEZONE
TZID:America/Chicago
BEGIN:STANDARD
TZNAME:CST
DTSTART:20261101T020000
TZOFFSETFROM:-0500
TZOFFSETTO:-0600
RDATE:20271107T020000
END:STANDARD
BEGIN:DAYLIGHT
TZNAME:CDT
DTSTART:20260308T020000
TZOFFSETFROM:-0600
TZOFFSETTO:-0500
RDATE:20270314T020000
RDATE:20280312T020000
END:DAYLIGHT
END:VTIMEZONE
BEGIN:VEVENT
UID:3df2eea0-fa9b-4e13-93f9-a7ad100c8ec9
DTSTAMP:20260421T201320Z
DESCRIPTION:114th and Dodge
DTSTART;TZID=America/Chicago:20270128T183000
DTEND;TZID=America/Chicago:20270128T200000
LOCATION:DJ's Dugout
SUMMARY:D.A.D.S. Omaha Meeting
END:VEVENT
END:VCALENDAR
