BEGIN:VCALENDAR
VERSION:2.0
PRODID:-//www.dsamidlands.org//NONSGML kigkonsult.se iCalcreator 2.30.10//
CALSCALE:GREGORIAN
METHOD:PUBLISH
UID:57950723-3a09-49ee-89b8-24c624bad110
X-WR-CALDESC:
X-WR-RELCALID:d1ec4a41bde568cdca02d2633481c803
X-WR-TIMEZONE:America/Chicago
BEGIN:VTIMEZONE
TZID:America/Chicago
BEGIN:STANDARD
TZNAME:CST
DTSTART:20261101T020000
TZOFFSETFROM:-0500
TZOFFSETTO:-0600
RDATE:20271107T020000
END:STANDARD
BEGIN:DAYLIGHT
TZNAME:CDT
DTSTART:20260308T020000
TZOFFSETFROM:-0600
TZOFFSETTO:-0500
RDATE:20270314T020000
RDATE:20280312T020000
END:DAYLIGHT
END:VTIMEZONE
BEGIN:VEVENT
UID:61dae1aa-7822-47a3-a8d8-7cb1bda35950
DTSTAMP:20260421T183803Z
DESCRIPTION:
DTSTART;TZID=America/Chicago:20261221T050000
DTEND;TZID=America/Chicago:20270103T050001
LOCATION:
SUMMARY:Winter Break
END:VEVENT
END:VCALENDAR
