BEGIN:VCALENDAR
VERSION:2.0
PRODID:-//www.dsamidlands.org//NONSGML kigkonsult.se iCalcreator 2.30.10//
CALSCALE:GREGORIAN
METHOD:PUBLISH
UID:11dabc46-d3e7-492a-a0cb-0de866906767
X-WR-CALDESC:Siblings Connect will meet on the following 2026 dates:\nFebru
 ary 28\, June 6\, August 22\, and December 5.  1:00-3:00\nPlease attend al
 l 4 dates!  \n\n
X-WR-RELCALID:8de3bcc0b7351622793ab0d70477e7f3
X-WR-TIMEZONE:America/Chicago
BEGIN:VTIMEZONE
TZID:America/Chicago
BEGIN:STANDARD
TZNAME:CST
DTSTART:20261101T020000
TZOFFSETFROM:-0500
TZOFFSETTO:-0600
RDATE:20271107T020000
END:STANDARD
BEGIN:DAYLIGHT
TZNAME:CDT
DTSTART:20260308T020000
TZOFFSETFROM:-0600
TZOFFSETTO:-0500
RDATE:20270314T020000
RDATE:20280312T020000
END:DAYLIGHT
END:VTIMEZONE
BEGIN:VEVENT
UID:e66aff74-5e50-4144-8d8e-633f076873c0
DTSTAMP:20260421T183810Z
DESCRIPTION:Siblings Connect will meet on the following 2026 dates:\nFebrua
 ry 28\, June 6\, August 22\, and December 5.  1:00-3:00\nPlease attend all
  4 dates!  \n\n
DTSTART;TZID=America/Chicago:20261205T130000
DTEND;TZID=America/Chicago:20261205T150000
LOCATION:https://secure.lglforms.com/form_engine/s/PGDaOcyutLXb1yERUYBCnA
SUMMARY:Siblings Connect December
END:VEVENT
END:VCALENDAR
