BEGIN:VCALENDAR
VERSION:2.0
PRODID:-//www.dsamidlands.org//NONSGML kigkonsult.se iCalcreator 2.30.10//
CALSCALE:GREGORIAN
METHOD:PUBLISH
UID:98b93c8f-f93e-4fd2-87c5-3a11776a47ec
X-WR-CALDESC:
X-WR-RELCALID:6918bfcc9e0ed5167331c6788936a009
X-WR-TIMEZONE:America/Chicago
BEGIN:VTIMEZONE
TZID:America/Chicago
BEGIN:STANDARD
TZNAME:CST
DTSTART:20261101T020000
TZOFFSETFROM:-0500
TZOFFSETTO:-0600
RDATE:20271107T020000
END:STANDARD
BEGIN:DAYLIGHT
TZNAME:CDT
DTSTART:20260308T020000
TZOFFSETFROM:-0600
TZOFFSETTO:-0500
RDATE:20270314T020000
RDATE:20280312T020000
END:DAYLIGHT
END:VTIMEZONE
BEGIN:VEVENT
UID:69092f30-6c3e-4f5a-8a8e-1165a7e517ac
DTSTAMP:20260421T173233Z
DESCRIPTION:
DTSTART;TZID=America/Chicago:20261126T050000
DTEND;TZID=America/Chicago:20261126T050001
LOCATION:
SUMMARY:Thanksgiving
END:VEVENT
END:VCALENDAR
