BEGIN:VCALENDAR
VERSION:2.0
PRODID:-//www.dsamidlands.org//NONSGML kigkonsult.se iCalcreator 2.30.10//
CALSCALE:GREGORIAN
METHOD:PUBLISH
UID:1ae417ef-bdc2-4cc7-bae6-827b91e642a3
X-WR-CALDESC:
X-WR-RELCALID:7c19742d27ba3bfc9021282682a60e23
X-WR-TIMEZONE:America/Chicago
BEGIN:VTIMEZONE
TZID:America/Chicago
BEGIN:STANDARD
TZNAME:CST
DTSTART:20261101T020000
TZOFFSETFROM:-0500
TZOFFSETTO:-0600
RDATE:20271107T020000
END:STANDARD
BEGIN:DAYLIGHT
TZNAME:CDT
DTSTART:20260308T020000
TZOFFSETFROM:-0600
TZOFFSETTO:-0500
RDATE:20270314T020000
RDATE:20280312T020000
END:DAYLIGHT
END:VTIMEZONE
BEGIN:VEVENT
UID:2ff263e2-43ae-4c2d-b6f5-725fd85eb213
DTSTAMP:20260421T172212Z
DESCRIPTION:
DTSTART;TZID=America/Chicago:20261125T050000
DTEND;TZID=America/Chicago:20261129T050001
LOCATION:
SUMMARY:DSA Office Closed
END:VEVENT
END:VCALENDAR
