BEGIN:VCALENDAR
VERSION:2.0
PRODID:-//www.dsamidlands.org//NONSGML kigkonsult.se iCalcreator 2.30.10//
CALSCALE:GREGORIAN
METHOD:PUBLISH
UID:4e80a636-77c4-44c5-b41a-51738d073775
X-WR-CALDESC:
X-WR-RELCALID:7fb943674f5b62b581137ff12333ddda
X-WR-TIMEZONE:America/Chicago
BEGIN:VTIMEZONE
TZID:America/Chicago
BEGIN:STANDARD
TZNAME:CST
DTSTART:20261101T020000
TZOFFSETFROM:-0500
TZOFFSETTO:-0600
RDATE:20271107T020000
END:STANDARD
BEGIN:DAYLIGHT
TZNAME:CDT
DTSTART:20260308T020000
TZOFFSETFROM:-0600
TZOFFSETTO:-0500
RDATE:20270314T020000
RDATE:20280312T020000
END:DAYLIGHT
END:VTIMEZONE
BEGIN:VEVENT
UID:ede799ed-3937-4d1e-9312-1fd0238d1868
DTSTAMP:20260421T172808Z
DESCRIPTION:
DTSTART;TZID=America/Chicago:20261117T180000
DTEND;TZID=America/Chicago:20261117T193000
LOCATION:16322 Adams St\, Omaha\, NE 68135 US
SUMMARY:DSES November 2026
END:VEVENT
END:VCALENDAR
