BEGIN:VCALENDAR
VERSION:2.0
PRODID:-//www.dsamidlands.org//NONSGML kigkonsult.se iCalcreator 2.30.10//
CALSCALE:GREGORIAN
METHOD:PUBLISH
UID:a74f89dd-8e7a-44f5-85b4-c12ca8e2fd6a
X-WR-CALDESC:
X-WR-RELCALID:d79ae242c314c9a226e2ac0673f0cc5e
X-WR-TIMEZONE:America/Chicago
BEGIN:VTIMEZONE
TZID:America/Chicago
BEGIN:STANDARD
TZNAME:CST
DTSTART:20251102T020000
TZOFFSETFROM:-0500
TZOFFSETTO:-0600
RDATE:20261101T020000
RDATE:20271107T020000
END:STANDARD
BEGIN:DAYLIGHT
TZNAME:CDT
DTSTART:20260308T020000
TZOFFSETFROM:-0600
TZOFFSETTO:-0500
RDATE:20270314T020000
RDATE:20280312T020000
END:DAYLIGHT
END:VTIMEZONE
BEGIN:VEVENT
UID:9e7fb200-4b5c-48e7-a835-eb8fe0000715
DTSTAMP:20260421T155324Z
DESCRIPTION:
DTSTART;TZID=America/Chicago:20261020T180000
DTEND;TZID=America/Chicago:20261020T193000
LOCATION:16322 Adams St\, Omaha\, NE 68135 US
SUMMARY:DSES October 2026
END:VEVENT
END:VCALENDAR
