BEGIN:VCALENDAR
VERSION:2.0
PRODID:-//www.dsamidlands.org//NONSGML kigkonsult.se iCalcreator 2.30.10//
CALSCALE:GREGORIAN
METHOD:PUBLISH
UID:60e7e771-6e44-49ac-8b2b-29d7a4c498f3
X-WR-CALDESC:
X-WR-RELCALID:f3fb76918062899b2ce4664f6517b780
X-WR-TIMEZONE:America/Chicago
BEGIN:VTIMEZONE
TZID:America/Chicago
BEGIN:STANDARD
TZNAME:CST
DTSTART:20251102T020000
TZOFFSETFROM:-0500
TZOFFSETTO:-0600
RDATE:20261101T020000
RDATE:20271107T020000
END:STANDARD
BEGIN:DAYLIGHT
TZNAME:CDT
DTSTART:20260308T020000
TZOFFSETFROM:-0600
TZOFFSETTO:-0500
RDATE:20270314T020000
RDATE:20280312T020000
END:DAYLIGHT
END:VTIMEZONE
BEGIN:VEVENT
UID:6aed7160-ebed-48fc-ac73-ab920ab2cd45
DTSTAMP:20260421T155148Z
DESCRIPTION:
DTSTART;TZID=America/Chicago:20261012T050000
DTEND;TZID=America/Chicago:20261012T050001
LOCATION:
SUMMARY:DSA Office Closed
END:VEVENT
END:VCALENDAR
