BEGIN:VCALENDAR
VERSION:2.0
PRODID:-//www.dsamidlands.org//NONSGML kigkonsult.se iCalcreator 2.30.10//
CALSCALE:GREGORIAN
METHOD:PUBLISH
UID:b2569ee3-c84d-4d99-be9e-4a318db61819
X-WR-CALDESC:Don't miss out on Drumming for Wellness for Teens and Adults w
 ith Down syndrome Winter Session! Register for this 8 week drumming experi
 ence being held at DSA\, 10824 Old Mill Road\, STE 8. Cost for the class i
 s $180.00 for the 8 week session to be paid to Omaha Music Therapy prior t
 o the first day of class.  Please see the confirmation email for direction
 s for payment.  Please email info@dsamidlands.org for financial assistance
  with program if needed.\n\n
X-WR-RELCALID:5f617e850bf3e4837527aa2257ab7c6a
X-WR-TIMEZONE:America/Chicago
BEGIN:VTIMEZONE
TZID:America/Chicago
BEGIN:STANDARD
TZNAME:CST
DTSTART:20251102T020000
TZOFFSETFROM:-0500
TZOFFSETTO:-0600
RDATE:20261101T020000
RDATE:20271107T020000
END:STANDARD
BEGIN:DAYLIGHT
TZNAME:CDT
DTSTART:20260308T020000
TZOFFSETFROM:-0600
TZOFFSETTO:-0500
RDATE:20270314T020000
RDATE:20280312T020000
END:DAYLIGHT
END:VTIMEZONE
BEGIN:VEVENT
UID:28e9a7b8-aa2d-4eb9-88b5-02cc165fabc1
DTSTAMP:20260421T155745Z
DESCRIPTION:Don't miss out on Drumming for Wellness for Teens and Adults wi
 th Down syndrome Winter Session! Register for this 8 week drumming experie
 nce being held at DSA\, 10824 Old Mill Road\, STE 8. Cost for the class is
  $180.00 for the 8 week session to be paid to Omaha Music Therapy prior to
  the first day of class.  Please see the confirmation email for directions
  for payment.  Please email info@dsamidlands.org for financial assistance 
 with program if needed.\n\n
DTSTART;TZID=America/Chicago:20261012T180000
DTEND;TZID=America/Chicago:20261012T190000
LOCATION:https://secure.lglforms.com/form_engine/s/-D7RHMPmUSo0Z1O3FMSZ_g
SUMMARY:Drumming for Wellness (ages 12+) Fall 2026
END:VEVENT
END:VCALENDAR
