BEGIN:VCALENDAR
VERSION:2.0
PRODID:-//www.dsamidlands.org//NONSGML kigkonsult.se iCalcreator 2.30.10//
CALSCALE:GREGORIAN
METHOD:PUBLISH
UID:0afc37a4-7d39-4b22-bb7a-54a7bc1c55f7
X-WR-CALDESC:
X-WR-RELCALID:1653d3a7000960d3234ea3444ed21179
X-WR-TIMEZONE:America/Chicago
BEGIN:VTIMEZONE
TZID:America/Chicago
BEGIN:STANDARD
TZNAME:CST
DTSTART:20251102T020000
TZOFFSETFROM:-0500
TZOFFSETTO:-0600
RDATE:20261101T020000
RDATE:20271107T020000
END:STANDARD
BEGIN:DAYLIGHT
TZNAME:CDT
DTSTART:20260308T020000
TZOFFSETFROM:-0600
TZOFFSETTO:-0500
RDATE:20270314T020000
END:DAYLIGHT
END:VTIMEZONE
BEGIN:VEVENT
UID:b18f218a-718b-4192-8482-cb0b235fc88e
DTSTAMP:20260421T142401Z
DESCRIPTION:
DTSTART;TZID=America/Chicago:20260907T050000
DTEND;TZID=America/Chicago:20260907T050001
LOCATION:
SUMMARY:DSA Office Closed
END:VEVENT
END:VCALENDAR
