BEGIN:VCALENDAR
VERSION:2.0
PRODID:-//www.dsamidlands.org//NONSGML kigkonsult.se iCalcreator 2.30.10//
CALSCALE:GREGORIAN
METHOD:PUBLISH
UID:b399661c-8337-4fec-a9c8-7273b97cc5f0
X-WR-CALDESC:Siblings Connect will meet on the following 2026 dates:\nFebru
 ary 28\, June 6\, August 22\, and December 5.  1:00-3:00\nPlease attend al
 l 4 dates!  \n\n
X-WR-RELCALID:095075ffc4d445c9eab15752de8b6a9a
X-WR-TIMEZONE:America/Chicago
BEGIN:VTIMEZONE
TZID:America/Chicago
BEGIN:STANDARD
TZNAME:CST
DTSTART:20251102T020000
TZOFFSETFROM:-0500
TZOFFSETTO:-0600
RDATE:20261101T020000
RDATE:20271107T020000
END:STANDARD
BEGIN:DAYLIGHT
TZNAME:CDT
DTSTART:20260308T020000
TZOFFSETFROM:-0600
TZOFFSETTO:-0500
RDATE:20270314T020000
END:DAYLIGHT
END:VTIMEZONE
BEGIN:VEVENT
UID:029fdcfa-b4f7-4a9b-8c8e-9036b7f3717c
DTSTAMP:20260421T125858Z
DESCRIPTION:Siblings Connect will meet on the following 2026 dates:\nFebrua
 ry 28\, June 6\, August 22\, and December 5.  1:00-3:00\nPlease attend all
  4 dates!  \n\n
DTSTART;TZID=America/Chicago:20260822T130000
DTEND;TZID=America/Chicago:20260822T150000
LOCATION:https://secure.lglforms.com/form_engine/s/PGDaOcyutLXb1yERUYBCnA
SUMMARY:Siblings Connect August
END:VEVENT
END:VCALENDAR
