BEGIN:VCALENDAR
VERSION:2.0
PRODID:-//www.dsamidlands.org//NONSGML kigkonsult.se iCalcreator 2.30.10//
CALSCALE:GREGORIAN
METHOD:PUBLISH
UID:1ffa1759-4fbf-4d2a-bf36-71e4e846974a
X-WR-CALDESC:
X-WR-RELCALID:8bb7b27c298a74b75d8df8f1d93db03f
X-WR-TIMEZONE:America/Chicago
BEGIN:VTIMEZONE
TZID:America/Chicago
BEGIN:STANDARD
TZNAME:CST
DTSTART:20251102T020000
TZOFFSETFROM:-0500
TZOFFSETTO:-0600
RDATE:20261101T020000
RDATE:20271107T020000
END:STANDARD
BEGIN:DAYLIGHT
TZNAME:CDT
DTSTART:20260308T020000
TZOFFSETFROM:-0600
TZOFFSETTO:-0500
RDATE:20270314T020000
END:DAYLIGHT
END:VTIMEZONE
BEGIN:VEVENT
UID:aac2596d-75ed-4a66-a375-575bb028ec60
DTSTAMP:20260421T130011Z
DESCRIPTION:
DTSTART;TZID=America/Chicago:20260818T180000
DTEND;TZID=America/Chicago:20260818T193000
LOCATION:https://secure.lglforms.com/form_engine/s/wQrFV-xr-BkccIy9pYS4tA
SUMMARY:DSES August 2026
END:VEVENT
END:VCALENDAR
