BEGIN:VCALENDAR
VERSION:2.0
PRODID:-//www.dsamidlands.org//NONSGML kigkonsult.se iCalcreator 2.30.10//
CALSCALE:GREGORIAN
METHOD:PUBLISH
UID:f2fb5e38-8a35-43d9-b2ff-07e7d31f8ff3
X-WR-CALDESC:
X-WR-RELCALID:9c0b2a578c7fb299919ace1a2a799a53
X-WR-TIMEZONE:America/Chicago
BEGIN:VTIMEZONE
TZID:America/Chicago
BEGIN:STANDARD
TZNAME:CST
DTSTART:20251102T020000
TZOFFSETFROM:-0500
TZOFFSETTO:-0600
RDATE:20261101T020000
RDATE:20271107T020000
END:STANDARD
BEGIN:DAYLIGHT
TZNAME:CDT
DTSTART:20260308T020000
TZOFFSETFROM:-0600
TZOFFSETTO:-0500
RDATE:20270314T020000
END:DAYLIGHT
END:VTIMEZONE
BEGIN:VEVENT
UID:30fadab5-0a5c-4e4d-8036-8a7f3394752d
DTSTAMP:20260421T113349Z
DESCRIPTION:
DTSTART;TZID=America/Chicago:20260721T180000
DTEND;TZID=America/Chicago:20260721T193000
LOCATION:16322 Adams St\, Omaha\, NE 68135 US
SUMMARY:DSES July 2026
END:VEVENT
END:VCALENDAR
