BEGIN:VCALENDAR
VERSION:2.0
PRODID:-//www.dsamidlands.org//NONSGML kigkonsult.se iCalcreator 2.30.10//
CALSCALE:GREGORIAN
METHOD:PUBLISH
UID:30fa3ee1-39fc-4c13-b964-94fb20e148ef
X-WR-CALDESC:
X-WR-RELCALID:eafc18f4060c2065a4f51d54b0b81ee4
X-WR-TIMEZONE:America/Chicago
BEGIN:VTIMEZONE
TZID:America/Chicago
BEGIN:STANDARD
TZNAME:CST
DTSTART:20251102T020000
TZOFFSETFROM:-0500
TZOFFSETTO:-0600
RDATE:20261101T020000
RDATE:20271107T020000
END:STANDARD
BEGIN:DAYLIGHT
TZNAME:CDT
DTSTART:20260308T020000
TZOFFSETFROM:-0600
TZOFFSETTO:-0500
RDATE:20270314T020000
END:DAYLIGHT
END:VTIMEZONE
BEGIN:VEVENT
UID:025f4011-78e1-42b1-82de-c019ba8afb3f
DTSTAMP:20260421T113108Z
DESCRIPTION:
DTSTART;TZID=America/Chicago:20260713T050000
DTEND;TZID=America/Chicago:20260717T050001
LOCATION:
SUMMARY:iCan Shine Bike Camp
END:VEVENT
END:VCALENDAR
