BEGIN:VCALENDAR
VERSION:2.0
PRODID:-//www.dsamidlands.org//NONSGML kigkonsult.se iCalcreator 2.30.10//
CALSCALE:GREGORIAN
METHOD:PUBLISH
UID:6b70d78a-d7e9-4269-a034-55cde3c27dc7
X-WR-CALDESC:
X-WR-RELCALID:70561e51ed954dd1a84f1f2ef7ec150c
X-WR-TIMEZONE:America/Chicago
BEGIN:VTIMEZONE
TZID:America/Chicago
BEGIN:STANDARD
TZNAME:CST
DTSTART:20251102T020000
TZOFFSETFROM:-0500
TZOFFSETTO:-0600
RDATE:20261101T020000
RDATE:20271107T020000
END:STANDARD
BEGIN:DAYLIGHT
TZNAME:CDT
DTSTART:20260308T020000
TZOFFSETFROM:-0600
TZOFFSETTO:-0500
RDATE:20270314T020000
END:DAYLIGHT
END:VTIMEZONE
BEGIN:VEVENT
UID:bda18ab1-4eca-4d7e-8ad5-356152ad2cff
DTSTAMP:20260421T112635Z
DESCRIPTION:
DTSTART;TZID=America/Chicago:20260703T050000
DTEND;TZID=America/Chicago:20260703T050001
LOCATION:
SUMMARY:DSA Office Closed
END:VEVENT
END:VCALENDAR
