BEGIN:VCALENDAR
VERSION:2.0
PRODID:-//www.dsamidlands.org//NONSGML kigkonsult.se iCalcreator 2.30.10//
CALSCALE:GREGORIAN
METHOD:PUBLISH
UID:fedfff01-e4e7-417e-a0dd-1b6a94d4b961
X-WR-CALDESC:Come join us for Summer Camp at the Zoo! \nThis half-day camp 
 runs Monday–Thursday from 8:30 AM–12:30 PM at the Omaha Zoo. Campers will 
 explore the zoo at an easy\, comfortable pace in a fun\, inclusive\, and s
 afe environment—perfect for learning\, discovering\, and making great summ
 er memories.\n\nPLEASE VISIT THE JUNE EVENT CALENDAR TO REGISTER FOR THE A
 PPROPRIATE AGE GROUP.\nhttps://www.dsamidlands.org/events/events.html/cale
 ndar/2026/6
X-WR-RELCALID:0360891cf24d05c03e33ff5fbabe95e3
X-WR-TIMEZONE:America/Chicago
BEGIN:VTIMEZONE
TZID:America/Chicago
BEGIN:STANDARD
TZNAME:CST
DTSTART:20251102T020000
TZOFFSETFROM:-0500
TZOFFSETTO:-0600
RDATE:20261101T020000
RDATE:20271107T020000
END:STANDARD
BEGIN:DAYLIGHT
TZNAME:CDT
DTSTART:20260308T020000
TZOFFSETFROM:-0600
TZOFFSETTO:-0500
RDATE:20270314T020000
END:DAYLIGHT
END:VTIMEZONE
BEGIN:VEVENT
UID:bc413533-a223-4462-83a6-dbe1444a7152
DTSTAMP:20260421T142422Z
DESCRIPTION:Come join us for Summer Camp at the Zoo! \nThis half-day camp r
 uns Monday–Thursday from 8:30 AM–12:30 PM at the Omaha Zoo. Campers will e
 xplore the zoo at an easy\, comfortable pace in a fun\, inclusive\, and sa
 fe environment—perfect for learning\, discovering\, and making great summe
 r memories.\n\nPLEASE VISIT THE JUNE EVENT CALENDAR TO REGISTER FOR THE AP
 PROPRIATE AGE GROUP.\nhttps://www.dsamidlands.org/events/events.html/calen
 dar/2026/6
DTSTART;TZID=America/Chicago:20260608T050000
DTEND;TZID=America/Chicago:20260611T050001
LOCATION:https://secure.lglforms.com/form_engine/s/3WVPd4c58bBA7OzcSo8GDQ
SUMMARY:DSA Summer Camp 1st - 4th Grade
END:VEVENT
END:VCALENDAR
