BEGIN:VCALENDAR
VERSION:2.0
PRODID:-//www.dsamidlands.org//NONSGML kigkonsult.se iCalcreator 2.30.10//
CALSCALE:GREGORIAN
METHOD:PUBLISH
UID:7da21ab9-fa59-4f7e-b7b0-c30ba208a14c
X-WR-CALDESC:We’re so excited for our summer camp crew to meet all our camp
 ers! Stop by the DSA office to say hello\, ask questions\, and enjoy ice c
 ream and popsicles.
X-WR-RELCALID:354ac1b4419b534bb425ce6bba9dcc08
X-WR-TIMEZONE:America/Chicago
BEGIN:VTIMEZONE
TZID:America/Chicago
BEGIN:STANDARD
TZNAME:CST
DTSTART:20251102T020000
TZOFFSETFROM:-0500
TZOFFSETTO:-0600
RDATE:20261101T020000
RDATE:20271107T020000
END:STANDARD
BEGIN:DAYLIGHT
TZNAME:CDT
DTSTART:20260308T020000
TZOFFSETFROM:-0600
TZOFFSETTO:-0500
RDATE:20270314T020000
END:DAYLIGHT
END:VTIMEZONE
BEGIN:VEVENT
UID:04c9bca7-9077-4e45-811c-9bb944511049
DTSTAMP:20260421T113132Z
DESCRIPTION:We’re so excited for our summer camp crew to meet all our campe
 rs! Stop by the DSA office to say hello\, ask questions\, and enjoy ice cr
 eam and popsicles.
DTSTART;TZID=America/Chicago:20260531T130000
DTEND;TZID=America/Chicago:20260531T140000
LOCATION:Down Synrome Alliance of the Midlands\, 10824 Old Mill Rd. Ste 8\,
  Omaha\, NE 68154 US
SUMMARY:DSA Summer Camp Kick Off 'Meet the Camp Crew!'
END:VEVENT
END:VCALENDAR
