BEGIN:VCALENDAR
VERSION:2.0
PRODID:-//www.dsamidlands.org//NONSGML kigkonsult.se iCalcreator 2.30.10//
CALSCALE:GREGORIAN
METHOD:PUBLISH
UID:09f1a50a-ae8b-43b8-b0b9-a2923db34ad0
X-WR-CALDESC:DSA is proud to bring back Circles classes to members. The Cir
 cles Curriculum teaches boundaries and relationship-specific behaviors\, u
 sing a simple multi-layer circle diagram. The class is open to members age
 s 8-13.  It will be held here at the DSA office\, 10824 Old Mill Rd. Suite
  8\, May 9\, 16\, 30\, and June 6 from 11:30 AM - 12:15 PM.  Space is limi
 ted so sign up early!
X-WR-RELCALID:d68c19e82277efa05c792973b1185647
X-WR-TIMEZONE:America/Chicago
BEGIN:VTIMEZONE
TZID:America/Chicago
BEGIN:STANDARD
TZNAME:CST
DTSTART:20251102T020000
TZOFFSETFROM:-0500
TZOFFSETTO:-0600
RDATE:20261101T020000
RDATE:20271107T020000
END:STANDARD
BEGIN:DAYLIGHT
TZNAME:CDT
DTSTART:20260308T020000
TZOFFSETFROM:-0600
TZOFFSETTO:-0500
RDATE:20270314T020000
END:DAYLIGHT
END:VTIMEZONE
BEGIN:VEVENT
UID:415e9542-b6c6-4d85-9250-92e4ee383586
DTSTAMP:20260421T112655Z
DESCRIPTION:DSA is proud to bring back Circles classes to members. The Circ
 les Curriculum teaches boundaries and relationship-specific behaviors\, us
 ing a simple multi-layer circle diagram. The class is open to members ages
  8-13.  It will be held here at the DSA office\, 10824 Old Mill Rd. Suite 
 8\, May 9\, 16\, 30\, and June 6 from 11:30 AM - 12:15 PM.  Space is limit
 ed so sign up early!
DTSTART;TZID=America/Chicago:20260530T113000
DTEND;TZID=America/Chicago:20260530T121500
LOCATION:https://secure.lglforms.com/form_engine/s/IjJmAa7-SXQXd0yu2E5AsQ
SUMMARY:Circles Ages 8-13
END:VEVENT
END:VCALENDAR
