BEGIN:VCALENDAR
VERSION:2.0
PRODID:-//www.dsamidlands.org//NONSGML kigkonsult.se iCalcreator 2.30.10//
CALSCALE:GREGORIAN
METHOD:PUBLISH
UID:5cd9a2da-945b-44d3-aac4-82eaf949cb22
X-WR-CALDESC:Join the Little Ones Playgroup for a wonderful adaptive swim o
 pportunity with All Inclusive Aquatics at the Kroc Center. There will be 4
  sessions-attend one or all!
X-WR-RELCALID:8f03a981f07b0adb247edead327d92f7
X-WR-TIMEZONE:America/Chicago
BEGIN:VTIMEZONE
TZID:America/Chicago
BEGIN:STANDARD
TZNAME:CST
DTSTART:20251102T020000
TZOFFSETFROM:-0500
TZOFFSETTO:-0600
RDATE:20261101T020000
RDATE:20271107T020000
END:STANDARD
BEGIN:DAYLIGHT
TZNAME:CDT
DTSTART:20260308T020000
TZOFFSETFROM:-0600
TZOFFSETTO:-0500
RDATE:20270314T020000
END:DAYLIGHT
END:VTIMEZONE
BEGIN:VEVENT
UID:8f331935-dc4e-4475-b616-555574b4fd07
DTSTAMP:20260421T231731Z
DESCRIPTION:Join the Little Ones Playgroup for a wonderful adaptive swim op
 portunity with All Inclusive Aquatics at the Kroc Center. There will be 4 
 sessions-attend one or all!
DTSTART;TZID=America/Chicago:20260527T110000
DTEND;TZID=America/Chicago:20260527T120000
LOCATION:https://secure.lglforms.com/form_engine/s/yAO7U8IVT0pBoCV4WMR-6A
SUMMARY:Little Ones Adaptive Swim    (Copy)
END:VEVENT
END:VCALENDAR
