BEGIN:VCALENDAR
VERSION:2.0
PRODID:-//www.dsamidlands.org//NONSGML kigkonsult.se iCalcreator 2.30.10//
CALSCALE:GREGORIAN
METHOD:PUBLISH
UID:2f90fa43-30ff-4a9c-a9c6-0b0a662b4003
X-WR-CALDESC:
X-WR-RELCALID:b7aaf580d8c11f1a767d1c232e08b89e
X-WR-TIMEZONE:America/Chicago
BEGIN:VTIMEZONE
TZID:America/Chicago
BEGIN:STANDARD
TZNAME:CST
DTSTART:20251102T020000
TZOFFSETFROM:-0500
TZOFFSETTO:-0600
RDATE:20261101T020000
RDATE:20271107T020000
END:STANDARD
BEGIN:DAYLIGHT
TZNAME:CDT
DTSTART:20260308T020000
TZOFFSETFROM:-0600
TZOFFSETTO:-0500
RDATE:20270314T020000
END:DAYLIGHT
END:VTIMEZONE
BEGIN:VEVENT
UID:6dec8c50-b179-4801-a0ef-415fb275284a
DTSTAMP:20260421T101605Z
DESCRIPTION:
DTSTART;TZID=America/Chicago:20260525T050000
DTEND;TZID=America/Chicago:20260525T050001
LOCATION:
SUMMARY:Memorial Day
END:VEVENT
END:VCALENDAR
