BEGIN:VCALENDAR
VERSION:2.0
PRODID:-//www.dsamidlands.org//NONSGML kigkonsult.se iCalcreator 2.30.10//
CALSCALE:GREGORIAN
METHOD:PUBLISH
UID:f0fa9b02-3fe7-4c23-8f8e-875c07659506
X-WR-CALDESC:
X-WR-RELCALID:d669ec0901277f5c4dd46f388f7c436d
X-WR-TIMEZONE:America/Chicago
BEGIN:VTIMEZONE
TZID:America/Chicago
BEGIN:STANDARD
TZNAME:CST
DTSTART:20251102T020000
TZOFFSETFROM:-0500
TZOFFSETTO:-0600
RDATE:20261101T020000
RDATE:20271107T020000
END:STANDARD
BEGIN:DAYLIGHT
TZNAME:CDT
DTSTART:20260308T020000
TZOFFSETFROM:-0600
TZOFFSETTO:-0500
RDATE:20270314T020000
END:DAYLIGHT
END:VTIMEZONE
BEGIN:VEVENT
UID:4dddacc1-815c-4123-9424-0c066d785091
DTSTAMP:20260421T112635Z
DESCRIPTION:
DTSTART;TZID=America/Chicago:20260522T050000
DTEND;TZID=America/Chicago:20260522T050001
LOCATION:
SUMMARY:DSA Office Closed
END:VEVENT
END:VCALENDAR
