BEGIN:VCALENDAR
VERSION:2.0
PRODID:-//www.dsamidlands.org//NONSGML kigkonsult.se iCalcreator 2.30.10//
CALSCALE:GREGORIAN
METHOD:PUBLISH
UID:0a150251-f7f2-462f-b8cb-1063ff30d69f
X-WR-CALDESC:
X-WR-RELCALID:ba048f140f1722f43fdfafaeb531fc0b
X-WR-TIMEZONE:America/Chicago
BEGIN:VTIMEZONE
TZID:America/Chicago
BEGIN:STANDARD
TZNAME:CST
DTSTART:20251102T020000
TZOFFSETFROM:-0500
TZOFFSETTO:-0600
RDATE:20261101T020000
RDATE:20271107T020000
END:STANDARD
BEGIN:DAYLIGHT
TZNAME:CDT
DTSTART:20260308T020000
TZOFFSETFROM:-0600
TZOFFSETTO:-0500
RDATE:20270314T020000
END:DAYLIGHT
END:VTIMEZONE
BEGIN:VEVENT
UID:1ee0a4f2-30bb-4e79-b040-a267eec480c2
DTSTAMP:20260421T112645Z
DESCRIPTION:
DTSTART;TZID=America/Chicago:20260519T180000
DTEND;TZID=America/Chicago:20260519T193000
LOCATION:16322 Adams St\, Omaha\, NE 68135 US
SUMMARY:DSES May 2026
END:VEVENT
END:VCALENDAR
