BEGIN:VCALENDAR
VERSION:2.0
PRODID:-//www.dsamidlands.org//NONSGML kigkonsult.se iCalcreator 2.30.10//
CALSCALE:GREGORIAN
METHOD:PUBLISH
UID:6c717c2c-2f8f-4ad0-9f32-3744267decf0
X-WR-CALDESC:Join us for a fun way to get a little exercise!  We will start
  with some stretches and walk about a mile each time.  All abilities welco
 me!
X-WR-RELCALID:4dcd42137e03a46051a05340905e4ce1
X-WR-TIMEZONE:America/Chicago
BEGIN:VTIMEZONE
TZID:America/Chicago
BEGIN:STANDARD
TZNAME:CST
DTSTART:20251102T020000
TZOFFSETFROM:-0500
TZOFFSETTO:-0600
RDATE:20261101T020000
RDATE:20271107T020000
END:STANDARD
BEGIN:DAYLIGHT
TZNAME:CDT
DTSTART:20260308T020000
TZOFFSETFROM:-0600
TZOFFSETTO:-0500
RDATE:20270314T020000
END:DAYLIGHT
END:VTIMEZONE
BEGIN:VEVENT
UID:88fa6085-b6d6-490a-9e95-0ff981e903bd
DTSTAMP:20260421T113107Z
DESCRIPTION:Join us for a fun way to get a little exercise!  We will start 
 with some stretches and walk about a mile each time.  All abilities welcom
 e!
DTSTART;TZID=America/Chicago:20260518T170000
DTEND;TZID=America/Chicago:20260518T180000
LOCATION:https://secure.lglforms.com/form_engine/s/qxbyvycJUgqOtw39pUHCLA
SUMMARY:Walking Club Session 1 2026
END:VEVENT
END:VCALENDAR
