BEGIN:VCALENDAR
VERSION:2.0
PRODID:-//www.dsamidlands.org//NONSGML kigkonsult.se iCalcreator 2.30.10//
CALSCALE:GREGORIAN
METHOD:PUBLISH
UID:1701bf77-6791-4e18-95fb-2335037edd9e
X-WR-CALDESC:Join the Little Ones Playgroup for a wonderful adaptive swim o
 pportunity with All Inclusive Aquatics at the Kroc Center. There will be 4
  sessions-attend one or all!
X-WR-RELCALID:bcf2ec736983097e5059a1824b820c80
X-WR-TIMEZONE:America/Chicago
BEGIN:VTIMEZONE
TZID:America/Chicago
BEGIN:STANDARD
TZNAME:CST
DTSTART:20251102T020000
TZOFFSETFROM:-0500
TZOFFSETTO:-0600
RDATE:20261101T020000
RDATE:20271107T020000
END:STANDARD
BEGIN:DAYLIGHT
TZNAME:CDT
DTSTART:20260308T020000
TZOFFSETFROM:-0600
TZOFFSETTO:-0500
RDATE:20270314T020000
END:DAYLIGHT
END:VTIMEZONE
BEGIN:VEVENT
UID:755d8e6a-ba88-4a1b-b15d-0b71fd76c83a
DTSTAMP:20260422T032259Z
DESCRIPTION:Join the Little Ones Playgroup for a wonderful adaptive swim op
 portunity with All Inclusive Aquatics at the Kroc Center. There will be 4 
 sessions-attend one or all!
DTSTART;TZID=America/Chicago:20260513T110000
DTEND;TZID=America/Chicago:20260513T120000
LOCATION:https://secure.lglforms.com/form_engine/s/sY-Lw4HHvicr0QDFoMnlNA
SUMMARY:Little Ones Adaptive Swim
END:VEVENT
END:VCALENDAR
