BEGIN:VCALENDAR
VERSION:2.0
PRODID:-//www.dsamidlands.org//NONSGML kigkonsult.se iCalcreator 2.30.10//
CALSCALE:GREGORIAN
METHOD:PUBLISH
UID:26965943-71fc-448d-9914-ad87a60f6022
X-WR-CALDESC:Join other moms for coffee\, conversation\, and great connecti
 ons! We are excited to see you! Location to be announced.
X-WR-RELCALID:12701089d84ae14fb1b5b8b9438a1b1a
X-WR-TIMEZONE:America/Chicago
BEGIN:VTIMEZONE
TZID:America/Chicago
BEGIN:STANDARD
TZNAME:CST
DTSTART:20251102T020000
TZOFFSETFROM:-0500
TZOFFSETTO:-0600
RDATE:20261101T020000
RDATE:20271107T020000
END:STANDARD
BEGIN:DAYLIGHT
TZNAME:CDT
DTSTART:20260308T020000
TZOFFSETFROM:-0600
TZOFFSETTO:-0500
RDATE:20270314T020000
END:DAYLIGHT
END:VTIMEZONE
BEGIN:VEVENT
UID:e2130f8c-4f01-454b-8128-0f90750015d7
DTSTAMP:20260421T113429Z
DESCRIPTION:Join other moms for coffee\, conversation\, and great connectio
 ns! We are excited to see you! Location to be announced.
DTSTART;TZID=America/Chicago:20260509T093000
DTEND;TZID=America/Chicago:20260509T110000
LOCATION:
SUMMARY:DSA Moms Coffee Connections
END:VEVENT
END:VCALENDAR
