BEGIN:VCALENDAR
VERSION:2.0
PRODID:-//www.dsamidlands.org//NONSGML kigkonsult.se iCalcreator 2.30.10//
CALSCALE:GREGORIAN
METHOD:PUBLISH
UID:16ba6931-118f-4123-bb73-d3a77d475694
X-WR-CALDESC:Kids Connect for 6th–8th graders is a fun opportunity for our 
 middle school members to build friendships\, stay active\, and enjoy dinne
 r together.
X-WR-RELCALID:c0dac48644d11759a91dfc181a3c25c2
X-WR-TIMEZONE:America/Chicago
BEGIN:VTIMEZONE
TZID:America/Chicago
BEGIN:STANDARD
TZNAME:CST
DTSTART:20251102T020000
TZOFFSETFROM:-0500
TZOFFSETTO:-0600
RDATE:20261101T020000
END:STANDARD
BEGIN:DAYLIGHT
TZNAME:CDT
DTSTART:20260308T020000
TZOFFSETFROM:-0600
TZOFFSETTO:-0500
RDATE:20270314T020000
END:DAYLIGHT
END:VTIMEZONE
BEGIN:VEVENT
UID:4e17eb46-1956-4a12-9c10-91e678f0b47c
DTSTAMP:20260421T142759Z
DESCRIPTION:Kids Connect for 6th–8th graders is a fun opportunity for our m
 iddle school members to build friendships\, stay active\, and enjoy dinner
  together.
DTSTART;TZID=America/Chicago:20260318T173000
DTEND;TZID=America/Chicago:20260318T190000
LOCATION:https://secure.lglforms.com/form_engine/s/avDJjqASL6s23d01xTWvLw
SUMMARY:Kids Connect 6th - 8th Grade
END:VEVENT
END:VCALENDAR
