BEGIN:VCALENDAR
VERSION:2.0
PRODID:-//www.dsamidlands.org//NONSGML kigkonsult.se iCalcreator 2.30.10//
CALSCALE:GREGORIAN
METHOD:PUBLISH
UID:be70e1e6-2055-4e82-8a5f-dd8d957b70d0
X-WR-CALDESC:Join us for a fun-filled Shamrock Social!  We will have some f
 un\, games\, conversation\, and snacks! \n\nLocation:\nSean O’Casey’s Pub\
 , 2523 So. 140th Ave.\n\nThis event is free for DSA members. Snacks will b
 e provided but other food and beverages are available for purchase at this
  event.  \n\nFor questions\, please email Deb Madden at madden@dsamidlands
 .org.
X-WR-RELCALID:7bbf4e71f178b8c19e67fb267407fff7
X-WR-TIMEZONE:America/Chicago
BEGIN:VTIMEZONE
TZID:America/Chicago
BEGIN:STANDARD
TZNAME:CST
DTSTART:20251102T020000
TZOFFSETFROM:-0500
TZOFFSETTO:-0600
RDATE:20261101T020000
END:STANDARD
BEGIN:DAYLIGHT
TZNAME:CDT
DTSTART:20260308T020000
TZOFFSETFROM:-0600
TZOFFSETTO:-0500
RDATE:20270314T020000
END:DAYLIGHT
END:VTIMEZONE
BEGIN:VEVENT
UID:d2eb1fe6-dff2-4e72-84db-3f38ff03fad3
DTSTAMP:20260421T142613Z
DESCRIPTION:Join us for a fun-filled Shamrock Social!  We will have some fu
 n\, games\, conversation\, and snacks! \n\nLocation:\nSean O’Casey’s Pub\,
  2523 So. 140th Ave.\n\nThis event is free for DSA members. Snacks will be
  provided but other food and beverages are available for purchase at this 
 event.  \n\nFor questions\, please email Deb Madden at madden@dsamidlands.
 org.
DTSTART;TZID=America/Chicago:20260311T180000
DTEND;TZID=America/Chicago:20260311T200000
LOCATION:https://secure.lglforms.com/form_engine/s/ANmTBVpTE6EcVDZuO8QHbg
SUMMARY:Adults Connect Shamrock Social 19+
END:VEVENT
END:VCALENDAR
