BEGIN:VCALENDAR
VERSION:2.0
PRODID:-//www.dsamidlands.org//NONSGML kigkonsult.se iCalcreator 2.30.10//
CALSCALE:GREGORIAN
METHOD:PUBLISH
UID:65c7995e-c78b-44e3-9d46-3eafb98b073a
X-WR-CALDESC:Join us for DSA Night at UNO Hockey!\n\nGame Details:\nUNO HOC
 KEY vs Miami (Ohio)\nSaturday\, February 28th\n7:00 PM\nTickets are $5 eac
 h\n\nLink to purchase tickets: https://am.ticketmaster.com/uno/promotional
 -page?id=MzYyNQ==\n\n(Promo code has already been applied)
X-WR-RELCALID:f90c0aa587bfdc0716c54baf963b5669
X-WR-TIMEZONE:America/Chicago
BEGIN:VTIMEZONE
TZID:America/Chicago
BEGIN:STANDARD
TZNAME:CST
DTSTART:20251102T020000
TZOFFSETFROM:-0500
TZOFFSETTO:-0600
RDATE:20261101T020000
END:STANDARD
BEGIN:DAYLIGHT
TZNAME:CDT
DTSTART:20250309T020000
TZOFFSETFROM:-0600
TZOFFSETTO:-0500
RDATE:20260308T020000
RDATE:20270314T020000
END:DAYLIGHT
END:VTIMEZONE
BEGIN:VEVENT
UID:231a326c-a736-4db2-9260-c1db428f33ed
DTSTAMP:20260421T155400Z
DESCRIPTION:Join us for DSA Night at UNO Hockey!\n\nGame Details:\nUNO HOCK
 EY vs Miami (Ohio)\nSaturday\, February 28th\n7:00 PM\nTickets are $5 each
 \n\nLink to purchase tickets: https://am.ticketmaster.com/uno/promotional-
 page?id=MzYyNQ==\n\n(Promo code has already been applied)
DTSTART;TZID=America/Chicago:20260228T190000
DTEND;TZID=America/Chicago:20260228T210000
LOCATION:Link to Purchase Tickets is Below!
SUMMARY:UNO Hockey vs Miami (Ohio)
END:VEVENT
END:VCALENDAR
