BEGIN:VCALENDAR
VERSION:2.0
PRODID:-//www.dsamidlands.org//NONSGML kigkonsult.se iCalcreator 2.30.10//
CALSCALE:GREGORIAN
METHOD:PUBLISH
UID:67f19261-3e36-49f5-a67f-a286b32411e1
X-WR-CALDESC:Siblings Connect will meet on the following 2026 dates:\nFebru
 ary 28\, June 6\, August 22\, and December 5.  1:00-3:00\nPlease attend al
 l 4 dates!  \n
X-WR-RELCALID:2b8ecd31350a57a8ac97594983bb5a29
X-WR-TIMEZONE:America/Chicago
BEGIN:VTIMEZONE
TZID:America/Chicago
BEGIN:STANDARD
TZNAME:CST
DTSTART:20251102T020000
TZOFFSETFROM:-0500
TZOFFSETTO:-0600
RDATE:20261101T020000
END:STANDARD
BEGIN:DAYLIGHT
TZNAME:CDT
DTSTART:20250309T020000
TZOFFSETFROM:-0600
TZOFFSETTO:-0500
RDATE:20260308T020000
RDATE:20270314T020000
END:DAYLIGHT
END:VTIMEZONE
BEGIN:VEVENT
UID:db7b52b4-d128-4b77-8b2f-56e49196bfd0
DTSTAMP:20260421T155143Z
DESCRIPTION:Siblings Connect will meet on the following 2026 dates:\nFebrua
 ry 28\, June 6\, August 22\, and December 5.  1:00-3:00\nPlease attend all
  4 dates!  \n
DTSTART;TZID=America/Chicago:20260228T130000
DTEND;TZID=America/Chicago:20260228T150000
LOCATION:https://secure.lglforms.com/form_engine/s/PGDaOcyutLXb1yERUYBCnA
SUMMARY:Siblings Connect
END:VEVENT
END:VCALENDAR
